BEGIN:VCALENDAR
VERSION:2.0
PRODID:-//Tukios.com/
BEGIN:VEVENT
UID:43cc25a1-8cc9-42b4-8b2c-70ce96eceb49@www.rhodenmemorialhome.com
DTSTAMP:20260422T210600Z
DTSTART:20260427T160000Z
DTEND:20260427T170000Z
SUMMARY:Celebration of Life
DESCRIPTION:
URL:https://www.rhodenmemorialhome.com/obituaries/gary-mckinley
LOCATION: 1027 9th Street Northeast  Canton OH 44705
GEO:40.8044299;-81.3633654
END:VEVENT
END:VCALENDAR