BEGIN:VCALENDAR
VERSION:2.0
PRODID:-//Tukios.com/
BEGIN:VEVENT
UID:22594a10-e43b-4411-826f-06acc1499f21@www.rhodenmemorialhome.com
DTSTAMP:20260422T210242Z
DTSTART:20260427T150000Z
DTEND:20260427T160000Z
SUMMARY:Visitation
DESCRIPTION:
URL:https://www.rhodenmemorialhome.com/obituaries/gary-mckinley
LOCATION: 1027 9th Street Northeast  Canton OH 44705
GEO:40.8044299;-81.3633654
END:VEVENT
END:VCALENDAR