BEGIN:VCALENDAR
VERSION:2.0
PRODID:-//Tukios.com/
BEGIN:VEVENT
UID:d994562d-cf00-4e1f-ba5c-f63a7f9ec1c7@www.rhodenmemorialhome.com
DTSTAMP:20260425T185519Z
DTSTART:20260501T150000Z
DTEND:20260501T160000Z
SUMMARY:Celebration of Life
DESCRIPTION:
URL:https://www.rhodenmemorialhome.com/obituaries/dorothy-lilly
LOCATION: 729 Cherry Avenue N.E.  Canton OH 44702
GEO:40.8034535;-81.3695818
END:VEVENT
END:VCALENDAR