BEGIN:VCALENDAR
VERSION:2.0
PRODID:-//Tukios.com/
BEGIN:VEVENT
UID:40473aac-7abb-4af6-85dc-405396ea16f3@www.rhodenmemorialhome.com
DTSTAMP:20260425T185802Z
DTSTART:20260501T140000Z
DTEND:20260501T150000Z
SUMMARY:Visitation
DESCRIPTION:
URL:https://www.rhodenmemorialhome.com/obituaries/dorothy-lilly
LOCATION: 729 Cherry Avenue N.E.  Canton OH 44702
GEO:40.8034535;-81.3695818
END:VEVENT
END:VCALENDAR